BEGIN:VCALENDAR
VERSION:2.0
PRODID:-//kuchipudikonnect.com - ECPv6.15.13.1//NONSGML v1.0//EN
CALSCALE:GREGORIAN
METHOD:PUBLISH
X-ORIGINAL-URL:https://kuchipudikonnect.com
X-WR-CALDESC:Events for kuchipudikonnect.com
REFRESH-INTERVAL;VALUE=DURATION:PT1H
X-Robots-Tag:noindex
X-PUBLISHED-TTL:PT1H
BEGIN:VTIMEZONE
TZID:America/Los_Angeles
BEGIN:DAYLIGHT
TZOFFSETFROM:-0800
TZOFFSETTO:-0700
TZNAME:PDT
DTSTART:20230312T100000
END:DAYLIGHT
BEGIN:STANDARD
TZOFFSETFROM:-0700
TZOFFSETTO:-0800
TZNAME:PST
DTSTART:20231105T090000
END:STANDARD
BEGIN:DAYLIGHT
TZOFFSETFROM:-0800
TZOFFSETTO:-0700
TZNAME:PDT
DTSTART:20240310T100000
END:DAYLIGHT
BEGIN:STANDARD
TZOFFSETFROM:-0700
TZOFFSETTO:-0800
TZNAME:PST
DTSTART:20241103T090000
END:STANDARD
BEGIN:DAYLIGHT
TZOFFSETFROM:-0800
TZOFFSETTO:-0700
TZNAME:PDT
DTSTART:20250309T100000
END:DAYLIGHT
BEGIN:STANDARD
TZOFFSETFROM:-0700
TZOFFSETTO:-0800
TZNAME:PST
DTSTART:20251102T090000
END:STANDARD
BEGIN:DAYLIGHT
TZOFFSETFROM:-0800
TZOFFSETTO:-0700
TZNAME:PDT
DTSTART:20260308T100000
END:DAYLIGHT
BEGIN:STANDARD
TZOFFSETFROM:-0700
TZOFFSETTO:-0800
TZNAME:PST
DTSTART:20261101T090000
END:STANDARD
END:VTIMEZONE
BEGIN:VEVENT
DTSTART;TZID=America/Los_Angeles:20250323T153000
DTEND;TZID=America/Los_Angeles:20250323T183000
DTSTAMP:20260419T163207
CREATED:20250225T030758Z
LAST-MODIFIED:20250225T030758Z
UID:14224-1742743800-1742754600@kuchipudikonnect.com
SUMMARY:Ganga To Kaveri
DESCRIPTION:Ganga to Kaveri is a mesmerizing multi-disciplinary Indian classical dance production. It was conceptualized and produced by Mr. Churchill Pandian of Utsav Music\, Chennai\, India. This breathtaking production pays tribute to India’s most sacred rivers—Ganga\, Yamuna\, Brahmaputra\, and Kaveri\, and attempts to bring to life their timeless stories\, cultural significance\, and spiritual essence through the lens of dance\, music\, and storytelling. \nParticipating Dance Schools:\n\nPurna Mudra School of Kuchipudi Dance\nUrvasi Odissi Dance Ensemble\nBhargavi Bharata Natyalaya\nKathaakars\n\nGet Tickets: Purchase Now
URL:https://kuchipudikonnect.com/event/ganga-to-kaveri/
LOCATION:Kirkland Performance Center\, 350 Kirkland Ave\, Kirkland\, 98033\, United States
END:VEVENT
BEGIN:VEVENT
DTSTART;TZID=America/Los_Angeles:20250216T180000
DTEND;TZID=America/Los_Angeles:20250216T180000
DTSTAMP:20260419T163207
CREATED:20250213T234439Z
LAST-MODIFIED:20250214T000443Z
UID:14135-1739728800-1739728800@kuchipudikonnect.com
SUMMARY:Spread the Joy
DESCRIPTION:Dance is a celebration of joy\, experienced by both the dancer and the audience. To share this joy with a wider community\, especially those who may not always have the opportunity to attend performances\, Kuchipudi Konnect launched the Spread the Joy of Dance series. For our first event\, we are bringing this experience to the beloved seniors at Cogir of Kirkland.\nThis is a volunteer-based program\, and we are happy to provide volunteer hours to those who participate.\nIf you’re a dancer who would love to join us in spreading the joy of dance\, we’d love for you to join this joy movement! Reach out to us at kuchipudikonnect@gmail.com.
URL:https://kuchipudikonnect.com/event/spread-the-joy/
LOCATION:Cogir of Kirkland\, 6505 Lakeview Dr\, Kirkland\, WA\, 98033\, United States
END:VEVENT
BEGIN:VEVENT
DTSTART;VALUE=DATE:20241202
DTEND;VALUE=DATE:20241226
DTSTAMP:20260419T163207
CREATED:20250213T233815Z
LAST-MODIFIED:20250214T000521Z
UID:14124-1733097600-1735171199@kuchipudikonnect.com
SUMMARY:Winter Wishes - Clothing and Toy Drive
DESCRIPTION:Art and artists survive on the community. We at Kuchipudi Konnect would love to Konnect with the community in different forms. #Kuchipudi4Kause\nAs our first initiative\, our youth volunteers have initiated WinterWish donation drive partnering with Treehouse. Please do participate and reach out to us if you have any to donate. We will come dancing and pick it up!!! 🙂\nIf you are a dance school and would like to join us please reach out and we are happy to work with you!
URL:https://kuchipudikonnect.com/event/winter-wishes-clothing-and-toy-drive/
END:VEVENT
END:VCALENDAR